BEGIN:VCALENDAR
VERSION:2.0
PRODID:icalendar-ruby
CALSCALE:GREGORIAN
METHOD:PUBLISH
BEGIN:VEVENT
DTSTAMP:20260421T052721Z
UID:5-398295@wearencumc.org
DTSTART:20261025T140000Z
DTEND:20261025T150000Z
CLASS:PUBLIC
CREATED:20260420T211155
DESCRIPTION:Sunday Worship
LAST-MODIFIED:20260420T211155
LOCATION:
SUMMARY:Sunday Worship
URL;VALUE=URI:https://wearencumc.org/events/sunday-worship/2026-10-25
END:VEVENT
END:VCALENDAR
